BEGIN:VCALENDAR
VERSION:2.0
PRODID:-//Dublin Meditation Circle of Self-Realization Fellowship - ECPv6.15.16//NONSGML v1.0//EN
CALSCALE:GREGORIAN
METHOD:PUBLISH
X-ORIGINAL-URL:https://srfdublin.org
X-WR-CALDESC:Events for Dublin Meditation Circle of Self-Realization Fellowship
REFRESH-INTERVAL;VALUE=DURATION:PT1H
X-Robots-Tag:noindex
X-PUBLISHED-TTL:PT1H
BEGIN:VTIMEZONE
TZID:Europe/Paris
BEGIN:DAYLIGHT
TZOFFSETFROM:+0100
TZOFFSETTO:+0200
TZNAME:CEST
DTSTART:20250330T010000
END:DAYLIGHT
BEGIN:STANDARD
TZOFFSETFROM:+0200
TZOFFSETTO:+0100
TZNAME:CET
DTSTART:20251026T010000
END:STANDARD
BEGIN:DAYLIGHT
TZOFFSETFROM:+0100
TZOFFSETTO:+0200
TZNAME:CEST
DTSTART:20260329T010000
END:DAYLIGHT
BEGIN:STANDARD
TZOFFSETFROM:+0200
TZOFFSETTO:+0100
TZNAME:CET
DTSTART:20261025T010000
END:STANDARD
BEGIN:DAYLIGHT
TZOFFSETFROM:+0100
TZOFFSETTO:+0200
TZNAME:CEST
DTSTART:20270328T010000
END:DAYLIGHT
BEGIN:STANDARD
TZOFFSETFROM:+0200
TZOFFSETTO:+0100
TZNAME:CET
DTSTART:20271031T010000
END:STANDARD
END:VTIMEZONE
BEGIN:VEVENT
DTSTART;VALUE=DATE:20260306
DTEND;VALUE=DATE:20260309
DTSTAMP:20260423T232552
CREATED:20260127T225304Z
LAST-MODIFIED:20260401T123251Z
UID:5390-1772755200-1773014399@srfdublin.org
SUMMARY:SRF Silent Weekend Retreat
DESCRIPTION:Paramahansa Yogananda taught that “Environment is stronger than Will Power” — our spiritual efforts are greatly strengthened in the company of fellow seekers. Many find that joining a weekend retreat is the best way to experience this benefit. \nThe Dublin Meditation Circle organises Spring and Autumn retreats at Ballyvaloo Conference and Retreat Centre in Co. Wexford. Each retreatant enjoys a private en-suite bedroom. \nRetreat Date: 25–27 September 2026 (Autumn) \nFor pricing and further information\, please email srfdublin@gmail.com (and copy fionnograda@gmail.com).
URL:https://srfdublin.org/event/srf-silent-weekend-retreat-2/
LOCATION:Ballyvaloo Retreat and Conference Centre\, Ballyvalloo Lower\, Blackwater\, Co. Wexford\, Ireland
ATTACH;FMTTYPE=image/jpeg:https://srfdublin.org/wp-content/uploads/2016/05/Ballyvaloo-Centre.jpg
ORGANIZER;CN="Dublin Meditation Circle":MAILTO:srfdublin@gmail.com
END:VEVENT
END:VCALENDAR